BEGIN:VCALENDAR
VERSION:2.0
BEGIN:VEVENT
PRODID:-//EventsAdmin//EN
UID:908cb723-5943-4b13-9b23-eae257c650ef@eventsadmin.com
DTSTAMP:20260424T125412Z
TRANSP:TRANSPARENT
DTSTART:20251013T090000
DTEND:20251016T180000
SUMMARY;ENCODING=QUOTED-PRINTABLE:MEMRISYS 2025
LOCATION;ENCODING=QUOTED-PRINTABLE:International Conference & Exhibition Centre - EICC 
DESCRIPTION;ENCODING=QUOTED-PRINTABLE:Conference Overview=0D=0AThe 8th International Conference on Memristive Materials, Devices &amp; Systems (MEMRISYS 2025) will take place at the Edinburgh International Conference Centre | EICC, Edinburgh, United Kingdom from 13 to 16 October 2025.=0D=0AProgramme Introduction=0D=0A=0D=0A Thank you all for attending MEMRISYS 2025!=0D=0A=0D=0AFINAL PROGRAMME=0D=0A=0D=0AAs the cornerstone of today’s rapid advances in artificial intelligence (AI), the electronics landscape is undergoing swift transformation. Memristor technologies, including
END:VEVENT
END:VCALENDAR
